BEGIN:VCALENDAR
VERSION:2.0
PRODID:-//wp-events-plugin.com//7.2.3.1//EN
TZID:Europe/Berlin
X-WR-TIMEZONE:Europe/Berlin
BEGIN:VEVENT
UID:241@mls-marburg.de
DTSTART;TZID=Europe/Berlin:20230505T095000
DTEND;TZID=Europe/Berlin:20230505T112000
DTSTAMP:20230321T113954Z
URL:https://www.mls-marburg.de/events/zukunftsmesse-ansage-zukunft-im-cine
 plex/
SUMMARY:Zukunftsmesse "Ansage Zukunft" im Cineplex.
DESCRIPTION:Die Tutorien der Jahrgangsstufe Q2 besuchen am Freitag\, den 5.
 5. gemeinsam die Zukunftsmesse "Ansage Zukunft" im Cineplex.\n\nDieses Jah
 r ist die Messe besonders für unsere Sek.-II-Schüler:innen interessant\,
  weil sich auch die Philipps-Universtität Marburg\, die Justus-Liebig-Uni
 versität Gießen und die Technische Hochschule Mittelhessen (Gießen) aus
 führlich vorstellen werden.\n\nZudem bieten die meisten Betriebe auch Mö
 glichkeiten für ein Duales Studium oder ein "Studium+" an.\n\nWeitere Kla
 ssen/Kurse können sich bei Interesse an den BO-Koordinator Herrn Koerner 
 wenden.\n\nTermine der Messe:\nDonnerstag und Freitag: Zugang für Schüle
 r*innen nach Anmeldung\n\nDie „Ansage Zukunft“ 2023 ist am Donnerstag 
 4. und Freitag 5. Mai von 8 – 13 Uhr\, am Samstag 6. Mai von 9-13 Uhr ge
 öffnet.\n\nOrt:\n\nMarburger Kino „Cineplex“ im Stadtzentrum von Marb
 urg\, Biegenstraße 1a\, Marburg
CATEGORIES:Infoveranstaltungen
END:VEVENT
BEGIN:VTIMEZONE
TZID:Europe/Berlin
X-LIC-LOCATION:Europe/Berlin
BEGIN:DAYLIGHT
DTSTART:20230326T030000
TZOFFSETFROM:+0100
TZOFFSETTO:+0200
TZNAME:CEST
END:DAYLIGHT
END:VTIMEZONE
END:VCALENDAR