BEGIN:VCALENDAR
VERSION:2.0
PRODID:-//wp-events-plugin.com//7.2.3.1//EN
TZID:Europe/Berlin
X-WR-TIMEZONE:Europe/Berlin
BEGIN:VEVENT
UID:266@mls-marburg.de
DTSTART;TZID=Europe/Berlin:20231221T180000
DTEND;TZID=Europe/Berlin:20231221T200000
DTSTAMP:20231214T094138Z
URL:https://www.mls-marburg.de/events/winter-vokalkonzert/
SUMMARY:Winter-Vokalkonzert
DESCRIPTION:https://www.mls-marburg.de/2023/12/winetr-vokalkonzert-der-mls/
CATEGORIES:Konzert/Theater/Lesung/Vortrag
LOCATION:St. Peter &amp\; Paul\, Biegenstraße 18\, Marburg\, Hessen\, 3503
 7\, Deutschland
X-APPLE-STRUCTURED-LOCATION;VALUE=URI;X-ADDRESS=Biegenstraße 18\, Marburg\
 , Hessen\, 35037\, Deutschland;X-APPLE-RADIUS=100;X-TITLE=St. Peter & Paul
 :geo:0,0
END:VEVENT
BEGIN:VTIMEZONE
TZID:Europe/Berlin
X-LIC-LOCATION:Europe/Berlin
BEGIN:STANDARD
DTSTART:20231029T020000
TZOFFSETFROM:+0200
TZOFFSETTO:+0100
TZNAME:CET
END:STANDARD
END:VTIMEZONE
END:VCALENDAR