BEGIN:VCALENDAR
VERSION:2.0
PRODID:-//wp-events-plugin.com//7.2.3.1//EN
TZID:Europe/Berlin
X-WR-TIMEZONE:Europe/Berlin
BEGIN:VEVENT
UID:191@mls-marburg.de
DTSTART;TZID=Europe/Berlin:20210506T080000
DTEND;TZID=Europe/Berlin:20210506T171000
DTSTAMP:20210505T075532Z
URL:https://www.mls-marburg.de/events/wiedereinstieg-in-den-wechselunterri
 cht/
SUMMARY:Wiedereinstieg in den Wechselunterricht
DESCRIPTION:
END:VEVENT
BEGIN:VTIMEZONE
TZID:Europe/Berlin
X-LIC-LOCATION:Europe/Berlin
BEGIN:DAYLIGHT
DTSTART:20210328T030000
TZOFFSETFROM:+0100
TZOFFSETTO:+0200
TZNAME:CEST
END:DAYLIGHT
END:VTIMEZONE
END:VCALENDAR