BEGIN:VCALENDAR
VERSION:2.0
PRODID:-//wp-events-plugin.com//7.2.3.1//EN
TZID:Europe/Berlin
X-WR-TIMEZONE:Europe/Berlin
BEGIN:VEVENT
UID:202@mls-marburg.de
DTSTART;TZID=Europe/Berlin:20220222T190000
DTEND;TZID=Europe/Berlin:20220222T210000
DTSTAMP:20220210T072211Z
URL:https://www.mls-marburg.de/events/virtueller-infoabend-kl-7/
SUMMARY:Virtueller Infoabend Kl. 7
DESCRIPTION:Via Big Blue Button (Link folgt)
CATEGORIES:Infoveranstaltungen
END:VEVENT
BEGIN:VTIMEZONE
TZID:Europe/Berlin
X-LIC-LOCATION:Europe/Berlin
BEGIN:STANDARD
DTSTART:20211031T020000
TZOFFSETFROM:+0200
TZOFFSETTO:+0100
TZNAME:CET
END:STANDARD
END:VTIMEZONE
END:VCALENDAR