BEGIN:VCALENDAR
VERSION:2.0
PRODID:-//wp-events-plugin.com//7.2.3.1//EN
TZID:Europe/Berlin
X-WR-TIMEZONE:Europe/Berlin
BEGIN:VEVENT
UID:205@mls-marburg.de
DTSTART;TZID=Europe/Berlin;VALUE=DATE:20220219
DTEND;TZID=Europe/Berlin;VALUE=DATE:20220220
DTSTAMP:20220210T072609Z
URL:https://www.mls-marburg.de/events/virtuelle-infosprechstunde-kl-5/
SUMMARY:Virtuelle Infosprechstunde Kl. 5
DESCRIPTION:
END:VEVENT
BEGIN:VTIMEZONE
TZID:Europe/Berlin
X-LIC-LOCATION:Europe/Berlin
BEGIN:STANDARD
DTSTART:20211031T020000
TZOFFSETFROM:+0200
TZOFFSETTO:+0100
TZNAME:CET
END:STANDARD
END:VTIMEZONE
END:VCALENDAR