BEGIN:VCALENDAR
VERSION:2.0
PRODID:-//wp-events-plugin.com//7.2.3.1//EN
TZID:Europe/Berlin
X-WR-TIMEZONE:Europe/Berlin
BEGIN:VEVENT
UID:204@mls-marburg.de
DTSTART;TZID=Europe/Berlin;VALUE=DATE:20220218
DTEND;TZID=Europe/Berlin;VALUE=DATE:20220219
DTSTAMP:20220210T072646Z
URL:https://www.mls-marburg.de/events/virtuelle-info-sprechstunde/
SUMMARY:Virtuelle Infosprechstunde Kl. 5
DESCRIPTION:
CATEGORIES:Infoveranstaltungen
END:VEVENT
BEGIN:VTIMEZONE
TZID:Europe/Berlin
X-LIC-LOCATION:Europe/Berlin
BEGIN:STANDARD
DTSTART:20211031T020000
TZOFFSETFROM:+0200
TZOFFSETTO:+0100
TZNAME:CET
END:STANDARD
END:VTIMEZONE
END:VCALENDAR