BEGIN:VCALENDAR
VERSION:2.0
PRODID:-//wp-events-plugin.com//7.2.3.1//EN
TZID:Europe/Berlin
X-WR-TIMEZONE:Europe/Berlin
BEGIN:VEVENT
UID:130@mls-marburg.de
DTSTART;TZID=Europe/Berlin;VALUE=DATE:20190507
DTEND;TZID=Europe/Berlin;VALUE=DATE:20190508
DTSTAMP:20190507T113009Z
URL:https://www.mls-marburg.de/events/the-big-challenge-englisch-wettbewer
 b-klasse-5-8/
SUMMARY:The Big Challenge - Englisch-Wettbewerb Klasse 5.-8.
DESCRIPTION:Internationaler Englischwettbewerb „The Big Challenge“ für
  die 5.-8. Klassen (1.-6. Stunde)
CATEGORIES:Wettbewerb
LOCATION:Martin-Luther-Schule\, Savignystraße 2\, Marburg\, Hessen\, 35037
 \, Deutschland
X-APPLE-STRUCTURED-LOCATION;VALUE=URI;X-ADDRESS=Savignystraße 2\, Marburg\
 , Hessen\, 35037\, Deutschland;X-APPLE-RADIUS=100;X-TITLE=Martin-Luther-Sc
 hule:geo:0,0
END:VEVENT
BEGIN:VTIMEZONE
TZID:Europe/Berlin
X-LIC-LOCATION:Europe/Berlin
BEGIN:DAYLIGHT
DTSTART:20190331T030000
TZOFFSETFROM:+0100
TZOFFSETTO:+0200
TZNAME:CEST
END:DAYLIGHT
END:VTIMEZONE
END:VCALENDAR