BEGIN:VCALENDAR
VERSION:2.0
PRODID:-//wp-events-plugin.com//7.2.3.1//EN
TZID:Europe/Berlin
X-WR-TIMEZONE:Europe/Berlin
BEGIN:VEVENT
UID:123@mls-marburg.de
DTSTART;TZID=Europe/Berlin;VALUE=DATE:20190316
DTEND;TZID=Europe/Berlin;VALUE=DATE:20190317
DTSTAMP:20190307T123043Z
URL:https://www.mls-marburg.de/events/tag-der-mathematik-q2/
SUMMARY:Tag der Mathematik Q2
DESCRIPTION:
CATEGORIES:Termine
END:VEVENT
BEGIN:VTIMEZONE
TZID:Europe/Berlin
X-LIC-LOCATION:Europe/Berlin
BEGIN:STANDARD
DTSTART:20181028T020000
TZOFFSETFROM:+0200
TZOFFSETTO:+0100
TZNAME:CET
END:STANDARD
END:VTIMEZONE
END:VCALENDAR