BEGIN:VCALENDAR
VERSION:2.0
PRODID:-//wp-events-plugin.com//7.2.3.1//EN
TZID:Europe/Berlin
X-WR-TIMEZONE:Europe/Berlin
BEGIN:VEVENT
UID:153@mls-marburg.de
DTSTART;TZID=Europe/Berlin;VALUE=DATE:20200127
DTEND;TZID=Europe/Berlin;VALUE=DATE:20200128
DTSTAMP:20200120T124108Z
URL:https://www.mls-marburg.de/events/studientag-q-3-lk-1-lebendige-biblio
 thek/
SUMMARY:Studientag Q 3 LK 1 “Lebendige Bibliothek”
DESCRIPTION:
END:VEVENT
BEGIN:VTIMEZONE
TZID:Europe/Berlin
X-LIC-LOCATION:Europe/Berlin
BEGIN:STANDARD
DTSTART:20191027T020000
TZOFFSETFROM:+0200
TZOFFSETTO:+0100
TZNAME:CET
END:STANDARD
END:VTIMEZONE
END:VCALENDAR