BEGIN:VCALENDAR
VERSION:2.0
PRODID:-//wp-events-plugin.com//7.2.3.1//EN
TZID:Europe/Berlin
X-WR-TIMEZONE:Europe/Berlin
BEGIN:VEVENT
UID:132@mls-marburg.de
DTSTART;TZID=Europe/Berlin:20190628T103500
DTEND;TZID=Europe/Berlin:20190628T103500
DTSTAMP:20190618T113645Z
URL:https://www.mls-marburg.de/events/sommerferien-unterrichtsschluss-nach
 -der-3-stunde/
SUMMARY:Sommerferien - Unterrichtsschluss nach der 3. Stunde
DESCRIPTION:
CATEGORIES:Termine
END:VEVENT
BEGIN:VTIMEZONE
TZID:Europe/Berlin
X-LIC-LOCATION:Europe/Berlin
BEGIN:DAYLIGHT
DTSTART:20190331T030000
TZOFFSETFROM:+0100
TZOFFSETTO:+0200
TZNAME:CEST
END:DAYLIGHT
END:VTIMEZONE
END:VCALENDAR