BEGIN:VCALENDAR
VERSION:2.0
PRODID:-//wp-events-plugin.com//7.2.3.1//EN
TZID:Europe/Berlin
X-WR-TIMEZONE:Europe/Berlin
BEGIN:VEVENT
UID:195@mls-marburg.de
DTSTART;TZID=Europe/Berlin:20211115T000000
DTEND;TZID=Europe/Berlin:20211119T000000
DTSTAMP:20211114T212813Z
URL:https://www.mls-marburg.de/events/sek-ii-digitale-junior-start-up-week
 -des-iw-institut-der-deutschen-wirtschaft/
SUMMARY:BO-Sek-II: Digitale JUNIOR Start-up-Week des IW
DESCRIPTION:15. bis 19. November 2021: Digitale JUNIOR Start-up-Week des IW
  (Institut der deutschen Wirtschaft).\n\nhttps://www.junior-programme.de/n
 euigkeiten/veranstaltungen/2-digitale-junior-start-up-week-2021
CATEGORIES:Infoveranstaltungen
END:VEVENT
BEGIN:VTIMEZONE
TZID:Europe/Berlin
X-LIC-LOCATION:Europe/Berlin
BEGIN:STANDARD
DTSTART:20211031T020000
TZOFFSETFROM:+0200
TZOFFSETTO:+0100
TZNAME:CET
END:STANDARD
END:VTIMEZONE
END:VCALENDAR