BEGIN:VCALENDAR
VERSION:2.0
PRODID:-//wp-events-plugin.com//7.2.3.1//EN
TZID:Europe/Berlin
X-WR-TIMEZONE:Europe/Berlin
BEGIN:VEVENT
UID:235@mls-marburg.de
DTSTART;TZID=Europe/Berlin;VALUE=DATE:20230123
DTEND;TZID=Europe/Berlin;VALUE=DATE:20230204
DTSTAMP:20230130T122956Z
URL:https://www.mls-marburg.de/events/quatrikum-4-0/
SUMMARY:Quatrikum
DESCRIPTION:15 Schüler*innen der E-Phase lernen 4 Betriebe in der Region i
 nnerhalb von zwei Wochen kennen. Diesmal: Schneider\, Roth\, SW-Motech\, t
 ripuls.
END:VEVENT
BEGIN:VTIMEZONE
TZID:Europe/Berlin
X-LIC-LOCATION:Europe/Berlin
BEGIN:STANDARD
DTSTART:20221030T020000
TZOFFSETFROM:+0200
TZOFFSETTO:+0100
TZNAME:CET
END:STANDARD
END:VTIMEZONE
END:VCALENDAR