BEGIN:VCALENDAR
VERSION:2.0
PRODID:-//wp-events-plugin.com//7.2.3.1//EN
TZID:Europe/Berlin
X-WR-TIMEZONE:Europe/Berlin
BEGIN:VEVENT
UID:208@mls-marburg.de
DTSTART;TZID=Europe/Berlin:20220315T100000
DTEND;TZID=Europe/Berlin:20220315T113000
DTSTAMP:20220314T210624Z
URL:https://www.mls-marburg.de/events/prof-conze-an-der-mls-vortrag-vor-q4
 -geschichte/
SUMMARY:Prof. Conze an der MLS - Vortrag vor Q4 - Geschichte
DESCRIPTION:
CATEGORIES:Konzert/Theater/Lesung/Vortrag
LOCATION:Aula der MLS\, Savignystraße 2\, Marburg\, Hessen\, 35037\, Deuts
 chland
GEO:50.8107627;8.776724899999977
X-APPLE-STRUCTURED-LOCATION;VALUE=URI;X-ADDRESS=Savignystraße 2\, Marburg\
 , Hessen\, 35037\, Deutschland;X-APPLE-RADIUS=100;X-TITLE=Aula der MLS:geo
 :50.8107627,8.776724899999977
END:VEVENT
BEGIN:VTIMEZONE
TZID:Europe/Berlin
X-LIC-LOCATION:Europe/Berlin
BEGIN:STANDARD
DTSTART:20211031T020000
TZOFFSETFROM:+0200
TZOFFSETTO:+0100
TZNAME:CET
END:STANDARD
END:VTIMEZONE
END:VCALENDAR