BEGIN:VCALENDAR
VERSION:2.0
PRODID:-//wp-events-plugin.com//7.2.3.1//EN
TZID:Europe/Berlin
X-WR-TIMEZONE:Europe/Berlin
BEGIN:VEVENT
UID:142@mls-marburg.de
DTSTART;TZID=Europe/Berlin;VALUE=DATE:20191028
DTEND;TZID=Europe/Berlin;VALUE=DATE:20191109
DTSTAMP:20191105T082849Z
URL:https://www.mls-marburg.de/events/praktikum-9-klassen/
SUMMARY:Praktikum 9. Klassen
DESCRIPTION:
CATEGORIES:Termine
END:VEVENT
BEGIN:VTIMEZONE
TZID:Europe/Berlin
X-LIC-LOCATION:Europe/Berlin
BEGIN:STANDARD
DTSTART:20191027T020000
TZOFFSETFROM:+0200
TZOFFSETTO:+0100
TZNAME:CET
END:STANDARD
END:VTIMEZONE
END:VCALENDAR