BEGIN:VCALENDAR
VERSION:2.0
PRODID:-//wp-events-plugin.com//7.2.3.1//EN
TZID:Europe/Berlin
X-WR-TIMEZONE:Europe/Berlin
BEGIN:VEVENT
UID:152@mls-marburg.de
DTSTART;TZID=Europe/Berlin:20200123T190000
DTEND;TZID=Europe/Berlin:20200123T190000
DTSTAMP:20200120T123640Z
URL:https://www.mls-marburg.de/events/neujahrskonzert-der-mls/
SUMMARY:Neujahrskonzert der MLS
DESCRIPTION:
CATEGORIES:Konzert/Theater/Lesung/Vortrag,Termine
LOCATION:Kunsthalle der MLS\, Savignystraße 2\, marburg\, 35037\, Deutschl
 and
GEO:50.810567;8.776857
X-APPLE-STRUCTURED-LOCATION;VALUE=URI;X-ADDRESS=Savignystraße 2\, marburg\
 , 35037\, Deutschland;X-APPLE-RADIUS=100;X-TITLE=Kunsthalle der MLS:geo:50
 .810567,8.776857
END:VEVENT
BEGIN:VTIMEZONE
TZID:Europe/Berlin
X-LIC-LOCATION:Europe/Berlin
BEGIN:STANDARD
DTSTART:20191027T020000
TZOFFSETFROM:+0200
TZOFFSETTO:+0100
TZNAME:CET
END:STANDARD
END:VTIMEZONE
END:VCALENDAR