BEGIN:VCALENDAR
VERSION:2.0
PRODID:-//wp-events-plugin.com//7.2.3.1//EN
TZID:Europe/Berlin
X-WR-TIMEZONE:Europe/Berlin
BEGIN:VEVENT
UID:213@mls-marburg.de
DTSTART;TZID=Europe/Berlin;VALUE=DATE:20220605
DTEND;TZID=Europe/Berlin;VALUE=DATE:20220606
DTSTAMP:20220602T075004Z
URL:https://www.mls-marburg.de/events/mr-800-tischlein-deck-dich-mit-kinma
 r/
SUMMARY:MR 800 - Tischlein-deck-dich mit KinMar
DESCRIPTION:
CATEGORIES:Termine
LOCATION:Stadtautobahn\, B3\, Marburg\, Deutschland
GEO:50.800768;8.772873
X-APPLE-STRUCTURED-LOCATION;VALUE=URI;X-ADDRESS=B3\, Marburg\, Deutschland;
 X-APPLE-RADIUS=100;X-TITLE=Stadtautobahn:geo:50.800768,8.772873
END:VEVENT
BEGIN:VTIMEZONE
TZID:Europe/Berlin
X-LIC-LOCATION:Europe/Berlin
BEGIN:DAYLIGHT
DTSTART:20220327T030000
TZOFFSETFROM:+0100
TZOFFSETTO:+0200
TZNAME:CEST
END:DAYLIGHT
END:VTIMEZONE
END:VCALENDAR