BEGIN:VCALENDAR
VERSION:2.0
PRODID:-//wp-events-plugin.com//7.2.3.1//EN
TZID:Europe/Berlin
X-WR-TIMEZONE:Europe/Berlin
BEGIN:VEVENT
UID:210@mls-marburg.de
DTSTART;TZID=Europe/Berlin:20220331T190000
DTEND;TZID=Europe/Berlin:20220331T210000
DTSTAMP:20220315T120744Z
URL:https://www.mls-marburg.de/events/mls-schulkonzert-ii/
SUMMARY:MLS-Schulkonzert II
DESCRIPTION:Einladung-MLS-Schulkonzerte-2022
CATEGORIES:Konzert/Theater/Lesung/Vortrag
LOCATION:Erwin-Piscator-Haus (Stadthalle)\, Biegenstraße 15\, 35037 Marbur
 g\, Deutschland
GEO:50.810586;8.775296
X-APPLE-STRUCTURED-LOCATION;VALUE=URI;X-ADDRESS=Biegenstraße 15\, 35037 Ma
 rburg\, Deutschland;X-APPLE-RADIUS=100;X-TITLE=Erwin-Piscator-Haus (Stadth
 alle):geo:50.810586,8.775296
END:VEVENT
BEGIN:VTIMEZONE
TZID:Europe/Berlin
X-LIC-LOCATION:Europe/Berlin
BEGIN:DAYLIGHT
DTSTART:20220327T030000
TZOFFSETFROM:+0100
TZOFFSETTO:+0200
TZNAME:CEST
END:DAYLIGHT
END:VTIMEZONE
END:VCALENDAR