BEGIN:VCALENDAR
VERSION:2.0
PRODID:-//wp-events-plugin.com//7.2.3.1//EN
TZID:Europe/Berlin
X-WR-TIMEZONE:Europe/Berlin
BEGIN:VEVENT
UID:198@mls-marburg.de
DTSTART;TZID=Europe/Berlin;VALUE=DATE:20220124
DTEND;TZID=Europe/Berlin;VALUE=DATE:20220125
DTSTAMP:20220116T231027Z
URL:https://www.mls-marburg.de/events/lebendige-bibliothek-jgst-10/
SUMMARY:Lebendige Bibliothek Jgst. 10
DESCRIPTION:
CATEGORIES:Infoveranstaltungen
LOCATION:Martin-Luther-Schule\, Savignystraße 2\, Marburg\, Hessen\, 35037
 \, Deutschland
GEO:50.8107627;8.776724899999977
X-APPLE-STRUCTURED-LOCATION;VALUE=URI;X-ADDRESS=Savignystraße 2\, Marburg\
 , Hessen\, 35037\, Deutschland;X-APPLE-RADIUS=100;X-TITLE=Martin-Luther-Sc
 hule:geo:50.8107627,8.776724899999977
END:VEVENT
BEGIN:VTIMEZONE
TZID:Europe/Berlin
X-LIC-LOCATION:Europe/Berlin
BEGIN:STANDARD
DTSTART:20211031T020000
TZOFFSETFROM:+0200
TZOFFSETTO:+0100
TZNAME:CET
END:STANDARD
END:VTIMEZONE
END:VCALENDAR