BEGIN:VCALENDAR
VERSION:2.0
PRODID:-//wp-events-plugin.com//7.2.3.1//EN
TZID:Europe/Berlin
X-WR-TIMEZONE:Europe/Berlin
BEGIN:VEVENT
UID:269@mls-marburg.de
DTSTART;TZID=Europe/Berlin:20240215T190000
DTEND;TZID=Europe/Berlin:20240215T210000
DTSTAMP:20240126T094116Z
URL:https://www.mls-marburg.de/events/kleinkunstabend/
SUMMARY:Kleinkunstabend
DESCRIPTION:\n\n[subscribe2]
LOCATION:Kulturhalle der MLS\, Savignystraße 2\, Marburg\, 35037\, Deutsch
 land
X-APPLE-STRUCTURED-LOCATION;VALUE=URI;X-ADDRESS=Savignystraße 2\, Marburg\
 , 35037\, Deutschland;X-APPLE-RADIUS=100;X-TITLE=Kulturhalle der MLS:geo:0
 ,0
END:VEVENT
BEGIN:VTIMEZONE
TZID:Europe/Berlin
X-LIC-LOCATION:Europe/Berlin
BEGIN:STANDARD
DTSTART:20231029T020000
TZOFFSETFROM:+0200
TZOFFSETTO:+0100
TZNAME:CET
END:STANDARD
END:VTIMEZONE
END:VCALENDAR