BEGIN:VCALENDAR
VERSION:2.0
PRODID:-//wp-events-plugin.com//7.2.3.1//EN
TZID:Europe/Berlin
X-WR-TIMEZONE:Europe/Berlin
BEGIN:VEVENT
UID:275@mls-marburg.de
DTSTART;TZID=Europe/Berlin:20240913T133000
DTEND;TZID=Europe/Berlin:20240913T170000
DTSTAMP:20240822T124909Z
URL:https://www.mls-marburg.de/events/jubilaeumsschulfest-2024/
SUMMARY:Jubiläumsschulfest 2024
DESCRIPTION:Programm:&nbsp\;\n\n13.30 Uhr:&nbsp\; Eröffnung des Schulfests
 \ndanach:\n­&nbsp\;\no Stände (von den Klassen der MLS vorbereitet)\no A
 uftritte (z.B. Konzert-Band\, Tanz\, Rock-AG\,&nbsp\; etc.)\no Der Film Mu
 tabor (von 1988) wird in der Aula gezeigt\no Ausstellungsräume zum Schulj
 ubiläum (125 Jahre MLS in der Savignystraße)\n­\n\n17.00 Uhr: Ende des 
 Schulfestes&nbsp\;\n\n­ Ab 18.00 Uhr: Gemütliches Beisammensein des Koll
 egiums\, der Ehemaligen und weiterer Gäste auf dem Schulhof bzw. in der C
 afeteria (bei Regen)\n\nWenn Sie an diesem "gemütlichen Beisammensein" te
 ilnehmen möchten\, bitten wir Sie\, um die Organisation zu erleichtern\, 
 sich bis zum 06.09.24 über den folgenden Link anzumelden (https://t1p.de/
 mls-schulfest24).\n\n\n\nHinweis: Sie können auch eine ganze Gruppe über
  den Link anmelden.
LOCATION:Martin-Luther-Schule\, Savignystraße 2\, Marburg\, Hessen\, 35037
 \, Deutschland
GEO:50.8107627;8.776724899999977
X-APPLE-STRUCTURED-LOCATION;VALUE=URI;X-ADDRESS=Savignystraße 2\, Marburg\
 , Hessen\, 35037\, Deutschland;X-APPLE-RADIUS=100;X-TITLE=Martin-Luther-Sc
 hule:geo:50.8107627,8.776724899999977
END:VEVENT
BEGIN:VTIMEZONE
TZID:Europe/Berlin
X-LIC-LOCATION:Europe/Berlin
BEGIN:DAYLIGHT
DTSTART:20240331T030000
TZOFFSETFROM:+0100
TZOFFSETTO:+0200
TZNAME:CEST
END:DAYLIGHT
END:VTIMEZONE
END:VCALENDAR