BEGIN:VCALENDAR
VERSION:2.0
PRODID:-//wp-events-plugin.com//7.2.3.1//EN
TZID:Europe/Berlin
X-WR-TIMEZONE:Europe/Berlin
BEGIN:VEVENT
UID:264@mls-marburg.de
DTSTART;TZID=Europe/Berlin:20231129T180000
DTEND;TZID=Europe/Berlin:20231129T194500
DTSTAMP:20231129T123131Z
URL:https://www.mls-marburg.de/events/infoveranstaltung-zum-quatrikum-2024
 /
SUMMARY:Infoveranstaltung zum Quatrikum 2024
DESCRIPTION:Am Mittwoch\, den 29.11. um 18:00 Uhr findet in der MLS die\nIn
 formationsveranstaltung zum Quatrikum 2024\nstatt.\n\nNeben der Schulleitu
 ng werden auch das Staatliche Schulamt und die Industrie- und Handelskamme
 r vertreten sein.\nNach einer Kurzvorstellung der teilnehmenden Betriebe b
 esteht die Gelegenheit\, sich im persönlichen Gepräch über einzelne Bet
 riebe näher zu informieren. Die Veranstaltung wird gegen 19:45h enden.
CATEGORIES:Infoveranstaltungen
LOCATION:Aula der MLS\, Savignystraße 2\, Marburg\, Hessen\, 35037\, Deuts
 chland
GEO:50.8107627;8.776724899999977
X-APPLE-STRUCTURED-LOCATION;VALUE=URI;X-ADDRESS=Savignystraße 2\, Marburg\
 , Hessen\, 35037\, Deutschland;X-APPLE-RADIUS=100;X-TITLE=Aula der MLS:geo
 :50.8107627,8.776724899999977
END:VEVENT
BEGIN:VTIMEZONE
TZID:Europe/Berlin
X-LIC-LOCATION:Europe/Berlin
BEGIN:STANDARD
DTSTART:20231029T020000
TZOFFSETFROM:+0200
TZOFFSETTO:+0100
TZNAME:CET
END:STANDARD
END:VTIMEZONE
END:VCALENDAR