BEGIN:VCALENDAR
VERSION:2.0
PRODID:-//wp-events-plugin.com//7.2.3.1//EN
TZID:Europe/Berlin
X-WR-TIMEZONE:Europe/Berlin
BEGIN:VEVENT
UID:148@mls-marburg.de
DTSTART;TZID=Europe/Berlin:20191217T135500
DTEND;TZID=Europe/Berlin:20191217T144000
DTSTAMP:20191210T090742Z
URL:https://www.mls-marburg.de/events/infoveranstaltung-zum-mint-schueleri
 nnen-coaching/
SUMMARY:Infoveranstaltung zum MINT-Schülerinnen-Coaching
DESCRIPTION:Infoblatt MINT-Schülerinnen-Coaching-MLS Marburg (pdf)
CATEGORIES:Infoveranstaltungen
LOCATION:MLS - Raum A110\, Savignystraße 2\, Marburg\, 35037\, Deutschland
GEO:50.810763;8.776725
X-APPLE-STRUCTURED-LOCATION;VALUE=URI;X-ADDRESS=Savignystraße 2\, Marburg\
 , 35037\, Deutschland;X-APPLE-RADIUS=100;X-TITLE=MLS - Raum A110:geo:50.81
 0763,8.776725
END:VEVENT
BEGIN:VTIMEZONE
TZID:Europe/Berlin
X-LIC-LOCATION:Europe/Berlin
BEGIN:STANDARD
DTSTART:20191027T020000
TZOFFSETFROM:+0200
TZOFFSETTO:+0100
TZNAME:CET
END:STANDARD
END:VTIMEZONE
END:VCALENDAR