BEGIN:VCALENDAR
VERSION:2.0
PRODID:-//wp-events-plugin.com//7.2.3.1//EN
TZID:Europe/Berlin
X-WR-TIMEZONE:Europe/Berlin
BEGIN:VEVENT
UID:163@mls-marburg.de
DTSTART;TZID=Europe/Berlin:20200217T193000
DTEND;TZID=Europe/Berlin:20200217T211500
DTSTAMP:20200210T113943Z
URL:https://www.mls-marburg.de/events/informationsabend-zum-uebergang-in-d
 ie-gymnasiale-oberstufe/
SUMMARY:INFORMATIONSABEND ZUM ÜBERGANG IN DIE GYMNASIALE OBERSTUFE
DESCRIPTION:Die Martin-Luther-Schule lädt alle interessierten Schüler*inn
 en der Jahrgangsstufe 10 und ihre Erziehungsberechtigten\, die sich für d
 en Übergang in die gymnasiale Oberstufe unseres Gymnasiums interessieren\
 , ein\, sich am\n\nMontag\, dem 17. Februar 2020\, um 19.30 Uhr\,\n\nüber
  unsere Schule zu informieren.\n\nDer Informationsabend findet im Unterstu
 fengebäude\, Raum B003\, statt und wird von unserem Oberstufenleiter\, He
 rrn Palz\, geleitet.\n\nPalz\nStudiendirektor
CATEGORIES:Infoveranstaltungen
LOCATION:MLS - Raum B003\, Savignystraße 2\, Marburg\, Hessen\, 35037\, De
 utschland
GEO:50.8107627;8.776724899999976
X-APPLE-STRUCTURED-LOCATION;VALUE=URI;X-ADDRESS=Savignystraße 2\, Marburg\
 , Hessen\, 35037\, Deutschland;X-APPLE-RADIUS=100;X-TITLE=MLS - Raum B003:
 geo:50.8107627,8.776724899999976
END:VEVENT
BEGIN:VTIMEZONE
TZID:Europe/Berlin
X-LIC-LOCATION:Europe/Berlin
BEGIN:STANDARD
DTSTART:20191027T020000
TZOFFSETFROM:+0200
TZOFFSETTO:+0100
TZNAME:CET
END:STANDARD
END:VTIMEZONE
END:VCALENDAR