BEGIN:VCALENDAR
VERSION:2.0
PRODID:-//wp-events-plugin.com//7.2.3.1//EN
TZID:Europe/Berlin
X-WR-TIMEZONE:Europe/Berlin
BEGIN:VEVENT
UID:135@mls-marburg.de
DTSTART;TZID=Europe/Berlin:20190919T190000
DTEND;TZID=Europe/Berlin:20190919T201500
DTSTAMP:20190819T113707Z
URL:https://www.mls-marburg.de/events/infoabend-schueler-helfen-schuelern/
SUMMARY:Infoabend Schüler helfen Schülern
DESCRIPTION:
CATEGORIES:Infoveranstaltungen
LOCATION:MLS - Raum B003\, Savignystraße 2\, Marburg\, Hessen\, 35037\, De
 utschland
GEO:50.8107627;8.776724899999976
X-APPLE-STRUCTURED-LOCATION;VALUE=URI;X-ADDRESS=Savignystraße 2\, Marburg\
 , Hessen\, 35037\, Deutschland;X-APPLE-RADIUS=100;X-TITLE=MLS - Raum B003:
 geo:50.8107627,8.776724899999976
END:VEVENT
BEGIN:VTIMEZONE
TZID:Europe/Berlin
X-LIC-LOCATION:Europe/Berlin
BEGIN:DAYLIGHT
DTSTART:20190331T030000
TZOFFSETFROM:+0100
TZOFFSETTO:+0200
TZNAME:CEST
END:DAYLIGHT
END:VTIMEZONE
END:VCALENDAR