BEGIN:VCALENDAR
VERSION:2.0
PRODID:-//wp-events-plugin.com//7.2.3.1//EN
TZID:Europe/Berlin
X-WR-TIMEZONE:Europe/Berlin
BEGIN:VEVENT
UID:309@mls-marburg.de
DTSTART;TZID=Europe/Berlin:20251209T193000
DTEND;TZID=Europe/Berlin:20251209T210000
DTSTAMP:20251121T095315Z
URL:https://www.mls-marburg.de/events/infoabend-gymn-oberstufe-fuer-lernen
 de-der-mls/
SUMMARY:Infoabend gymn. Oberstufe für Lernende der MLS
DESCRIPTION:Einladung Infoabend Bildungswege mittlerer Abschluss 2025 (pdf)
CATEGORIES:Infoveranstaltungen
END:VEVENT
BEGIN:VTIMEZONE
TZID:Europe/Berlin
X-LIC-LOCATION:Europe/Berlin
BEGIN:STANDARD
DTSTART:20251026T020000
TZOFFSETFROM:+0200
TZOFFSETTO:+0100
TZNAME:CET
END:STANDARD
END:VTIMEZONE
END:VCALENDAR