BEGIN:VCALENDAR
VERSION:2.0
PRODID:-//wp-events-plugin.com//7.2.3.1//EN
TZID:Europe/Berlin
X-WR-TIMEZONE:Europe/Berlin
BEGIN:VEVENT
UID:160@mls-marburg.de
DTSTART;TZID=Europe/Berlin:20200205T190000
DTEND;TZID=Europe/Berlin:20200205T203000
DTSTAMP:20200128T124146Z
URL:https://www.mls-marburg.de/events/infoabend-fuer-eltern-und-sus-die-na
 chhilfe-nehmen-moechten/
SUMMARY:Infoabend für Eltern und Schüler*innen\, die Nachhilfe nehmen mö
 chten.
DESCRIPTION:
CATEGORIES:Infoveranstaltungen
LOCATION:MLS - Raum B003\, Savignystraße 2\, Marburg\, Hessen\, 35037\, De
 utschland
GEO:50.8107627;8.776724899999976
X-APPLE-STRUCTURED-LOCATION;VALUE=URI;X-ADDRESS=Savignystraße 2\, Marburg\
 , Hessen\, 35037\, Deutschland;X-APPLE-RADIUS=100;X-TITLE=MLS - Raum B003:
 geo:50.8107627,8.776724899999976
END:VEVENT
BEGIN:VTIMEZONE
TZID:Europe/Berlin
X-LIC-LOCATION:Europe/Berlin
BEGIN:STANDARD
DTSTART:20191027T020000
TZOFFSETFROM:+0200
TZOFFSETTO:+0100
TZNAME:CET
END:STANDARD
END:VTIMEZONE
END:VCALENDAR