BEGIN:VCALENDAR
VERSION:2.0
PRODID:-//wp-events-plugin.com//7.2.3.1//EN
TZID:Europe/Berlin
X-WR-TIMEZONE:Europe/Berlin
BEGIN:VEVENT
UID:118@mls-marburg.de
DTSTART;TZID=Europe/Berlin:20190220T190000
DTEND;TZID=Europe/Berlin:20190220T204500
DTSTAMP:20190123T185608Z
URL:https://www.mls-marburg.de/events/infoabend-fuer-eltern-und-schuelerin
 nen-die-evtl-zur-klasse-7-an-die-mls-wechseln-moechten/
SUMMARY:Infoabend für Eltern und SchülerInnen\, die evtl. zur Klasse 7 an
  die MLS wechseln möchten
DESCRIPTION:Am Mittwoch\, den 20. Februar 2019\, findet ab 19 Uhr ein Infor
 mationsabend für Eltern und Schüler/innen statt\, die über einen Wechse
 l in die Jahrgangsstufe 7 in der Martin-Luther-Schule nachdenken.\nWir inf
 ormieren über unser Konzept\, Besonderheiten der MLS\, den Wechsel und di
 e ersten Tage und Wochen in der Klasse 7. Dabei wird es Raum und Gelegenhe
 it geben\, Fragen zu stellen und sich durch die Schule führen zu lassen.\
 nAm Donnerstag\, den 21. Februar 2019\, können alle interessierten Schül
 er und Schülerinnen die MLS besuchen. Treffpunkt ist um 8.30 Uhr in der C
 afeteria (ab dem Haupteingang bzw. Schulhof ausgeschildert). Nach der Begr
 üßung stehen Hospitation in unseren sechsten Klassen\, Schulführung und
  Fragerunde auf dem Programm.\nUm besser planen zu können\, sind wir für
  Anmeldungen zum Hospitationstag dankbar (gilt nicht für die Schülerinne
 n und Schüler der OUS).\nWir freuen uns auf alle Interessierten.
CATEGORIES:Infoveranstaltungen
LOCATION:Martin-Luther-Schule\, Savignystraße 2\, Marburg\, Hessen\, 35037
 \, Deutschland
X-APPLE-STRUCTURED-LOCATION;VALUE=URI;X-ADDRESS=Savignystraße 2\, Marburg\
 , Hessen\, 35037\, Deutschland;X-APPLE-RADIUS=100;X-TITLE=Martin-Luther-Sc
 hule:geo:0,0
END:VEVENT
BEGIN:VTIMEZONE
TZID:Europe/Berlin
X-LIC-LOCATION:Europe/Berlin
BEGIN:STANDARD
DTSTART:20181028T020000
TZOFFSETFROM:+0200
TZOFFSETTO:+0100
TZNAME:CET
END:STANDARD
END:VTIMEZONE
END:VCALENDAR