BEGIN:VCALENDAR
VERSION:2.0
PRODID:-//wp-events-plugin.com//7.2.3.1//EN
TZID:Europe/Berlin
X-WR-TIMEZONE:Europe/Berlin
BEGIN:VEVENT
UID:311@mls-marburg.de
DTSTART;TZID=Europe/Berlin:20260122T082000
DTEND;TZID=Europe/Berlin:20260122T123000
DTSTAMP:20251126T124001Z
URL:https://www.mls-marburg.de/events/hospitationstag-fuer-kommende-7-klae
 ssler/
SUMMARY:Hospitationstag für kommende 7. Klässler
DESCRIPTION:
LOCATION:Caféteria der MLS\, Savignystraße 2\, 35037 Marburg\, Deutschlan
 d
GEO:50.8107627;8.776724899999976
X-APPLE-STRUCTURED-LOCATION;VALUE=URI;X-ADDRESS=Savignystraße 2\, 35037 Ma
 rburg\, Deutschland;X-APPLE-RADIUS=100;X-TITLE=Caféteria der MLS:geo:50.8
 107627,8.776724899999976
END:VEVENT
BEGIN:VTIMEZONE
TZID:Europe/Berlin
X-LIC-LOCATION:Europe/Berlin
BEGIN:STANDARD
DTSTART:20251026T020000
TZOFFSETFROM:+0200
TZOFFSETTO:+0100
TZNAME:CET
END:STANDARD
END:VTIMEZONE
END:VCALENDAR