BEGIN:VCALENDAR
VERSION:2.0
PRODID:-//wp-events-plugin.com//7.2.3.1//EN
TZID:Europe/Berlin
X-WR-TIMEZONE:Europe/Berlin
BEGIN:VEVENT
UID:149@mls-marburg.de
DTSTART;TZID=Europe/Berlin:20191220T095000
DTEND;TZID=Europe/Berlin:20191220T113000
DTSTAMP:20191219T092932Z
URL:https://www.mls-marburg.de/events/hobo-weihnachtscafe/
SUMMARY:5. Ho&Bo-Weihnachtscafé
DESCRIPTION:Am Freitag\, den 20.12. um 9:50 h findet ein interessantes Proj
 ekt zur Berufs- und Studienorientierung an der MLS zum 5. Mal statt: Das H
 o&amp\;Bo-Weihnachtscafé.\nHier berichten junge Ehemalige der MLS dem akt
 uellen Abijahrgang in lockerer Atmosphäre von ihren Erfahrungen beim Such
 en und Finden von Studien- und Ausbildungsplätzen sowie aus dem (Dualen) 
 Studium\, der Ausbildung und dem Berufsleben.\nInteressante Menschen und i
 nteressante Gespräche warten auf Sie. Wir würden uns freuen\, Sie in der
  MLS-Cafeteria begrüßen zu dürfen.\n\nMit freundlichen Grüßen\nTill K
 oerner\n(BO-Koordinator der MLS)
CATEGORIES:Termine
LOCATION:Caféteria der MLS\, Savignystraße 2\, 35037 Marburg\, Deutschlan
 d
GEO:50.8107627;8.776724899999976
X-APPLE-STRUCTURED-LOCATION;VALUE=URI;X-ADDRESS=Savignystraße 2\, 35037 Ma
 rburg\, Deutschland;X-APPLE-RADIUS=100;X-TITLE=Caféteria der MLS:geo:50.8
 107627,8.776724899999976
END:VEVENT
BEGIN:VTIMEZONE
TZID:Europe/Berlin
X-LIC-LOCATION:Europe/Berlin
BEGIN:STANDARD
DTSTART:20191027T020000
TZOFFSETFROM:+0200
TZOFFSETTO:+0100
TZNAME:CET
END:STANDARD
END:VTIMEZONE
END:VCALENDAR