BEGIN:VCALENDAR
VERSION:2.0
PRODID:-//wp-events-plugin.com//7.2.3.1//EN
TZID:Europe/Berlin
X-WR-TIMEZONE:Europe/Berlin
BEGIN:VEVENT
UID:246@mls-marburg.de
DTSTART;TZID=Europe/Berlin;VALUE=DATE:20230508
DTEND;TZID=Europe/Berlin;VALUE=DATE:20230514
DTSTAMP:20230508T115248Z
URL:https://www.mls-marburg.de/events/franzoesisch-austausch-schuelerinnen
 -aus-poitiers/
SUMMARY:Französisch-Austausch: Schüler*innen aus Poitiers
DESCRIPTION:
END:VEVENT
BEGIN:VTIMEZONE
TZID:Europe/Berlin
X-LIC-LOCATION:Europe/Berlin
BEGIN:DAYLIGHT
DTSTART:20230326T030000
TZOFFSETFROM:+0100
TZOFFSETTO:+0200
TZNAME:CEST
END:DAYLIGHT
END:VTIMEZONE
END:VCALENDAR