BEGIN:VCALENDAR
VERSION:2.0
PRODID:-//wp-events-plugin.com//7.2.3.1//EN
TZID:Europe/Berlin
X-WR-TIMEZONE:Europe/Berlin
BEGIN:VEVENT
UID:154@mls-marburg.de
DTSTART;TZID=Europe/Berlin:20200130T173000
DTEND;TZID=Europe/Berlin:20200130T193000
DTSTAMP:20200122T135145Z
URL:https://www.mls-marburg.de/events/finalrunde-des-mls-jugend-praesentie
 rt-schulwettbewerbes/
SUMMARY:Finalrunde des MLS-Jugend-Präsentiert Schulwettbewerbes
DESCRIPTION:Am Donnerstag\, den 30.01.2020 führt die AG Jugend-Präsentier
 t mit ausgewählten Schüler*innen der E-Phase die Finalrunde des MLS-Juge
 nd-Präsentiert Schulwettbewerbes ab 17:30 bis ca. 19:30 Uhr in der Aula d
 urch.
CATEGORIES:Wettbewerb
LOCATION:Aula der MLS\, Savignystraße 2\, Marburg\, Hessen\, 35037\, Deuts
 chland
GEO:50.8107627;8.776724899999977
X-APPLE-STRUCTURED-LOCATION;VALUE=URI;X-ADDRESS=Savignystraße 2\, Marburg\
 , Hessen\, 35037\, Deutschland;X-APPLE-RADIUS=100;X-TITLE=Aula der MLS:geo
 :50.8107627,8.776724899999977
END:VEVENT
BEGIN:VTIMEZONE
TZID:Europe/Berlin
X-LIC-LOCATION:Europe/Berlin
BEGIN:STANDARD
DTSTART:20191027T020000
TZOFFSETFROM:+0200
TZOFFSETTO:+0100
TZNAME:CET
END:STANDARD
END:VTIMEZONE
END:VCALENDAR