BEGIN:VCALENDAR
VERSION:2.0
PRODID:-//wp-events-plugin.com//7.2.3.1//EN
TZID:Europe/Berlin
X-WR-TIMEZONE:Europe/Berlin
BEGIN:VEVENT
UID:167@mls-marburg.de
DTSTART;TZID=Europe/Berlin:20200303T143000
DTEND;TZID=Europe/Berlin:20200303T153000
DTSTAMP:20200303T110417Z
URL:https://www.mls-marburg.de/events/feierstunde-zur-partnerschaft-mit-de
 m-alten-botanischen-garten/
SUMMARY:Feierstunde zur Partnerschaft mit dem Alten Botanischen Garten
DESCRIPTION:Die MLS wird Partnerschule des Alten Botanischen Gartens in Mar
 burg. Mehr dazu hier: http://www.alterbotgarten-marburg.de/
CATEGORIES:Termine
LOCATION:Aula der MLS\, Savignystraße 2\, Marburg\, Hessen\, 35037\, Deuts
 chland
GEO:50.8107627;8.776724899999977
X-APPLE-STRUCTURED-LOCATION;VALUE=URI;X-ADDRESS=Savignystraße 2\, Marburg\
 , Hessen\, 35037\, Deutschland;X-APPLE-RADIUS=100;X-TITLE=Aula der MLS:geo
 :50.8107627,8.776724899999977
END:VEVENT
BEGIN:VTIMEZONE
TZID:Europe/Berlin
X-LIC-LOCATION:Europe/Berlin
BEGIN:STANDARD
DTSTART:20191027T020000
TZOFFSETFROM:+0200
TZOFFSETTO:+0100
TZNAME:CET
END:STANDARD
END:VTIMEZONE
END:VCALENDAR