BEGIN:VCALENDAR
VERSION:2.0
PRODID:-//wp-events-plugin.com//7.2.3.1//EN
TZID:Europe/Berlin
X-WR-TIMEZONE:Europe/Berlin
BEGIN:VEVENT
UID:197@mls-marburg.de
DTSTART;TZID=Europe/Berlin;VALUE=DATE:20220113
DTEND;TZID=Europe/Berlin;VALUE=DATE:20220116
DTSTAMP:20220112T092431Z
URL:https://www.mls-marburg.de/events/ensembleprobentage-2/
SUMMARY:Ensembleprobentage
DESCRIPTION:
CATEGORIES:Termine
END:VEVENT
BEGIN:VTIMEZONE
TZID:Europe/Berlin
X-LIC-LOCATION:Europe/Berlin
BEGIN:STANDARD
DTSTART:20211031T020000
TZOFFSETFROM:+0200
TZOFFSETTO:+0100
TZNAME:CET
END:STANDARD
END:VTIMEZONE
END:VCALENDAR