BEGIN:VCALENDAR
VERSION:2.0
PRODID:-//wp-events-plugin.com//7.2.3.1//EN
TZID:Europe/Berlin
X-WR-TIMEZONE:Europe/Berlin
BEGIN:VEVENT
UID:138@mls-marburg.de
DTSTART;TZID=Europe/Berlin:20190920T170000
DTEND;TZID=Europe/Berlin:20190920T190000
DTSTAMP:20190916T112925Z
URL:https://www.mls-marburg.de/events/ems-kaffee-2/
SUMMARY:EMS-Kaffee
DESCRIPTION:
CATEGORIES:Termine
END:VEVENT
BEGIN:VTIMEZONE
TZID:Europe/Berlin
X-LIC-LOCATION:Europe/Berlin
BEGIN:DAYLIGHT
DTSTART:20190331T030000
TZOFFSETFROM:+0100
TZOFFSETTO:+0200
TZNAME:CEST
END:DAYLIGHT
END:VTIMEZONE
END:VCALENDAR