BEGIN:VCALENDAR
VERSION:2.0
PRODID:-//wp-events-plugin.com//7.2.3.1//EN
TZID:Europe/Berlin
X-WR-TIMEZONE:Europe/Berlin
BEGIN:VEVENT
UID:207@mls-marburg.de
DTSTART;TZID=Europe/Berlin:20220225T153000
DTEND;TZID=Europe/Berlin:20220225T193000
DTSTAMP:20220213T093619Z
URL:https://www.mls-marburg.de/events/elternsprechtag-ii-online/
SUMMARY:Elternsprechtag II (online)
DESCRIPTION:
CATEGORIES:Termine
END:VEVENT
BEGIN:VTIMEZONE
TZID:Europe/Berlin
X-LIC-LOCATION:Europe/Berlin
BEGIN:STANDARD
DTSTART:20211031T020000
TZOFFSETFROM:+0200
TZOFFSETTO:+0100
TZNAME:CET
END:STANDARD
END:VTIMEZONE
END:VCALENDAR