BEGIN:VCALENDAR
VERSION:2.0
PRODID:-//wp-events-plugin.com//7.2.3.1//EN
TZID:Europe/Berlin
X-WR-TIMEZONE:Europe/Berlin
BEGIN:VEVENT
UID:116@mls-marburg.de
DTSTART;TZID=Europe/Berlin:20190129T190000
DTEND;TZID=Europe/Berlin:20190129T204500
DTSTAMP:20190118T165138Z
URL:https://www.mls-marburg.de/events/elterninfo-zu-den-suchtpraeventionst
 agen-2019/
SUMMARY:Elterninfo zu den Suchtpräventionstagen 2019
DESCRIPTION:Um Ihnen weitere Informationen zu den Suchtpräventionstagen an
  unserer Schule zu geben\, laden wir Sie am 29.01.2019 um 19:00 Uhr zu ein
 er abendlichen Informationsveranstaltung in die Aula der Schule ein.\nAn d
 iesem Abend wird darüber hinaus Herr Seibel (Mitarbeiter der Drogenberatu
 ngsstelle Marburg) einen Beitrag zum Thema: „Jugend und Sucht“ halten.
 \nWir freuen uns sehr auf Ihre Teilnahme.
CATEGORIES:Infoveranstaltungen
LOCATION:Aula der MLS\, Savignystraße 2\, Marburg\, Hessen\, 35037\, Deuts
 chland
GEO:50.8107627;8.776724899999977
X-APPLE-STRUCTURED-LOCATION;VALUE=URI;X-ADDRESS=Savignystraße 2\, Marburg\
 , Hessen\, 35037\, Deutschland;X-APPLE-RADIUS=100;X-TITLE=Aula der MLS:geo
 :50.8107627,8.776724899999977
END:VEVENT
BEGIN:VTIMEZONE
TZID:Europe/Berlin
X-LIC-LOCATION:Europe/Berlin
BEGIN:STANDARD
DTSTART:20181028T020000
TZOFFSETFROM:+0200
TZOFFSETTO:+0100
TZNAME:CET
END:STANDARD
END:VTIMEZONE
END:VCALENDAR