BEGIN:VCALENDAR
VERSION:2.0
PRODID:-//wp-events-plugin.com//7.2.3.1//EN
TZID:Europe/Berlin
X-WR-TIMEZONE:Europe/Berlin
BEGIN:VEVENT
UID:310@mls-marburg.de
DTSTART;TZID=Europe/Berlin:20260121T190000
DTEND;TZID=Europe/Berlin:20260121T200000
DTSTAMP:20251126T123226Z
URL:https://www.mls-marburg.de/events/eltern-informationsabend-fuer-den-we
 chsel-in-die-jahrgangsstufe-7/
SUMMARY:Eltern-Informationsabend für den Wechsel in die Jahrgangsstufe 7
DESCRIPTION:
LOCATION:Aula der MLS\, Savignystraße 2\, Marburg\, Hessen\, 35037\, Deuts
 chland
GEO:50.8107627;8.776724899999977
X-APPLE-STRUCTURED-LOCATION;VALUE=URI;X-ADDRESS=Savignystraße 2\, Marburg\
 , Hessen\, 35037\, Deutschland;X-APPLE-RADIUS=100;X-TITLE=Aula der MLS:geo
 :50.8107627,8.776724899999977
END:VEVENT
BEGIN:VTIMEZONE
TZID:Europe/Berlin
X-LIC-LOCATION:Europe/Berlin
BEGIN:STANDARD
DTSTART:20251026T020000
TZOFFSETFROM:+0200
TZOFFSETTO:+0100
TZNAME:CET
END:STANDARD
END:VTIMEZONE
END:VCALENDAR