BEGIN:VCALENDAR
VERSION:2.0
PRODID:-//wp-events-plugin.com//7.2.3.1//EN
TZID:Europe/Berlin
X-WR-TIMEZONE:Europe/Berlin
BEGIN:VEVENT
UID:214@mls-marburg.de
DTSTART;TZID=Europe/Berlin;VALUE=DATE:20220628
DTEND;TZID=Europe/Berlin;VALUE=DATE:20220629
DTSTAMP:20220627T152131Z
URL:https://www.mls-marburg.de/events/bundesjugendspiele-2022/
SUMMARY:Bundesjugendspiele 2022
DESCRIPTION:Am Dienstag treffen sich die Schüler*innen bereits in Sportkle
 idung direkt am im Georg-Gassmann-Stadion\, spätestens um 08.00 Uhr. Bitt
 e an Sonnenschutz denken. Bei der Q2 wird man Getränke und Essen bekommen
  können. Die BJS enden um 13.10 Uhr am GGS.
CATEGORIES:Wettbewerb
LOCATION:Georg-Gassmann-Stadion-Marburg\, Leopold-Lucas-Straße 46b\, Marbu
 rg\, Hessen\, 35037\, Deutschland
GEO:50.797742;8.753755
X-APPLE-STRUCTURED-LOCATION;VALUE=URI;X-ADDRESS=Leopold-Lucas-Straße 46b\,
  Marburg\, Hessen\, 35037\, Deutschland;X-APPLE-RADIUS=100;X-TITLE=Georg-G
 assmann-Stadion-Marburg:geo:50.797742,8.753755
END:VEVENT
BEGIN:VTIMEZONE
TZID:Europe/Berlin
X-LIC-LOCATION:Europe/Berlin
BEGIN:DAYLIGHT
DTSTART:20220327T030000
TZOFFSETFROM:+0100
TZOFFSETTO:+0200
TZNAME:CEST
END:DAYLIGHT
END:VTIMEZONE
END:VCALENDAR