BEGIN:VCALENDAR
VERSION:2.0
PRODID:-//wp-events-plugin.com//7.2.3.1//EN
TZID:Europe/Berlin
X-WR-TIMEZONE:Europe/Berlin
BEGIN:VEVENT
UID:137@mls-marburg.de
DTSTART;TZID=Europe/Berlin:20190908T080000
DTEND;TZID=Europe/Berlin:20190920T200000
DTSTAMP:20190909T115345Z
URL:https://www.mls-marburg.de/events/botanik-ausstellung-mit-hilfe-des-ml
 s-bontanik-pfads/
SUMMARY:Botanik-Ausstellung mit Hilfe des MLS-Bontanik-Pfads
DESCRIPTION:
CATEGORIES:Termine
LOCATION:Universitätsbibliothek Marburg\, Deutschhausstraße 9\, 35037 Mar
 burg\, Deutschland
GEO:50.8142873;8.771766800000023
X-APPLE-STRUCTURED-LOCATION;VALUE=URI;X-ADDRESS=Deutschhausstraße 9\, 3503
 7 Marburg\, Deutschland;X-APPLE-RADIUS=100;X-TITLE=Universitätsbibliothek
  Marburg:geo:50.8142873,8.771766800000023
END:VEVENT
BEGIN:VTIMEZONE
TZID:Europe/Berlin
X-LIC-LOCATION:Europe/Berlin
BEGIN:DAYLIGHT
DTSTART:20190331T030000
TZOFFSETFROM:+0100
TZOFFSETTO:+0200
TZNAME:CEST
END:DAYLIGHT
END:VTIMEZONE
END:VCALENDAR