BEGIN:VCALENDAR
VERSION:2.0
PRODID:-//wp-events-plugin.com//7.2.3.1//EN
TZID:Europe/Berlin
X-WR-TIMEZONE:Europe/Berlin
BEGIN:VEVENT
UID:17@mls-marburg.de
DTSTART;TZID=Europe/Berlin;VALUE=DATE:20170112
DTEND;TZID=Europe/Berlin;VALUE=DATE:20170113
DTSTAMP:20161206T125429Z
URL:https://www.mls-marburg.de/events/blaeserprobentage-in-wolfshausen/
SUMMARY:Bläserprobentage in Wolfshausen
DESCRIPTION:
CATEGORIES:Termine
END:VEVENT
BEGIN:VTIMEZONE
TZID:Europe/Berlin
X-LIC-LOCATION:Europe/Berlin
BEGIN:STANDARD
DTSTART:20161030T020000
TZOFFSETFROM:+0200
TZOFFSETTO:+0100
TZNAME:CET
END:STANDARD
END:VTIMEZONE
END:VCALENDAR