BEGIN:VCALENDAR
VERSION:2.0
PRODID:-//wp-events-plugin.com//7.2.3.1//EN
TZID:Europe/Berlin
X-WR-TIMEZONE:Europe/Berlin
BEGIN:VEVENT
UID:194@mls-marburg.de
DTSTART;TZID=Europe/Berlin;VALUE=DATE:20211108
DTEND;TZID=Europe/Berlin;VALUE=DATE:20211120
DTSTAMP:20211027T120446Z
URL:https://www.mls-marburg.de/events/betriebspraktikum-klasse-9/
SUMMARY:Betriebspraktikum Klasse 9
DESCRIPTION:Weitere Informationen zum Betriebspraktikum finden sie hier.\n\
 n&nbsp\;
CATEGORIES:Termine
END:VEVENT
BEGIN:VTIMEZONE
TZID:Europe/Berlin
X-LIC-LOCATION:Europe/Berlin
BEGIN:STANDARD
DTSTART:20211031T020000
TZOFFSETFROM:+0200
TZOFFSETTO:+0100
TZNAME:CET
END:STANDARD
END:VTIMEZONE
END:VCALENDAR