BEGIN:VCALENDAR
VERSION:2.0
PRODID:-//wp-events-plugin.com//7.2.3.1//EN
TZID:Europe/Berlin
X-WR-TIMEZONE:Europe/Berlin
BEGIN:VEVENT
UID:156@mls-marburg.de
DTSTART;TZID=Europe/Berlin:20200213T082000
DTEND;TZID=Europe/Berlin:20200213T123000
DTSTAMP:20200211T153131Z
URL:https://www.mls-marburg.de/events/besuchsmoeglichkeit-fuer-schuelerinn
 en-die-zur-jgst-7-an-die-mls-wechslen-moechten/
SUMMARY:Besuchsmöglichkeit für Schüler*innen\, die zur Jgst. 7 an die ML
 S wechseln möchten
DESCRIPTION:Am Dienstag\, den 11. Februar 2020\, findet in der Aula ab 19 U
 hr ein Informationsabend für Eltern und Schüler*innen statt\, die über 
 einen Wechsel in die Jahrgangsstufe 7 in der Martin-Luther-Schule nachdenk
 en.\nWir informieren über unser Konzept\, Besonderheiten der MLS\, den We
 chsel und die ersten Tage und Wochen in der Klasse 7. Natürlich gibt es R
 aum und Gelegenheit\, Fragen zu stellen und sich durch die Schule führen 
 zu lassen.\nAm Donnerstag\, den 13. Februar 2020\, können alle interessie
 rten Schüler*innen die MLS besuchen. Treffpunkt ist um 8.20 Uhr in der Au
 la. Nach der Begrüßung stehen Hospitation in unseren sechsten Klassen\, 
 Schulführung und Fragerunde auf dem Programm. Voraussichtliches Ende ist 
 gegen 12.30 Uhr.
CATEGORIES:Infoveranstaltungen
LOCATION:Aula der MLS\, Savignystraße 2\, Marburg\, Hessen\, 35037\, Deuts
 chland
GEO:50.8107627;8.776724899999977
X-APPLE-STRUCTURED-LOCATION;VALUE=URI;X-ADDRESS=Savignystraße 2\, Marburg\
 , Hessen\, 35037\, Deutschland;X-APPLE-RADIUS=100;X-TITLE=Aula der MLS:geo
 :50.8107627,8.776724899999977
END:VEVENT
BEGIN:VTIMEZONE
TZID:Europe/Berlin
X-LIC-LOCATION:Europe/Berlin
BEGIN:STANDARD
DTSTART:20191027T020000
TZOFFSETFROM:+0200
TZOFFSETTO:+0100
TZNAME:CET
END:STANDARD
END:VTIMEZONE
END:VCALENDAR