BEGIN:VCALENDAR
VERSION:2.0
PRODID:-//wp-events-plugin.com//7.2.3.1//EN
TZID:Europe/Berlin
X-WR-TIMEZONE:Europe/Berlin
BEGIN:VEVENT
UID:136@mls-marburg.de
DTSTART;TZID=Europe/Berlin:20190913T100000
DTEND;TZID=Europe/Berlin:20190913T120000
DTSTAMP:20190903T150359Z
URL:https://www.mls-marburg.de/events/berufsberatung-sprechstunde-bei-frau
 -seim-bafa/
SUMMARY:Berufsberatung: Sprechstunde bei Frau Seim (BAfA)
DESCRIPTION:\n\nMehr unter: https://www.mls-marburg.de/schule_mit_profil/pr
 aktikum/angebote-der-berufsberatung/
CATEGORIES:Infoveranstaltungen
LOCATION:MLS - Elternsprechzimmer\, Savignystraße 2\, Marburg\, 35037 \, D
 eutschland
GEO:50.8107627;8.776724899999976
X-APPLE-STRUCTURED-LOCATION;VALUE=URI;X-ADDRESS=Savignystraße 2\, Marburg\
 , 35037 \, Deutschland;X-APPLE-RADIUS=100;X-TITLE=MLS - Elternsprechzimmer
 :geo:50.8107627,8.776724899999976
END:VEVENT
BEGIN:VTIMEZONE
TZID:Europe/Berlin
X-LIC-LOCATION:Europe/Berlin
BEGIN:DAYLIGHT
DTSTART:20190331T030000
TZOFFSETFROM:+0100
TZOFFSETTO:+0200
TZNAME:CEST
END:DAYLIGHT
END:VTIMEZONE
END:VCALENDAR