BEGIN:VCALENDAR
VERSION:2.0
PRODID:-//wp-events-plugin.com//7.2.3.1//EN
TZID:Europe/Berlin
X-WR-TIMEZONE:Europe/Berlin
BEGIN:VEVENT
UID:141@mls-marburg.de
DTSTART;TZID=Europe/Berlin:20191023T100000
DTEND;TZID=Europe/Berlin:20191023T120000
DTSTAMP:20191021T094638Z
URL:https://www.mls-marburg.de/events/berufsberatung-mit-der-bafa/
SUMMARY:Berufsberatung mit der BAfA
DESCRIPTION:
CATEGORIES:Infoveranstaltungen
LOCATION:MLS - Elternsprechzimmer\, Savignystraße 2\, Marburg\, 35037 \, D
 eutschland
GEO:50.8107627;8.776724899999976
X-APPLE-STRUCTURED-LOCATION;VALUE=URI;X-ADDRESS=Savignystraße 2\, Marburg\
 , 35037 \, Deutschland;X-APPLE-RADIUS=100;X-TITLE=MLS - Elternsprechzimmer
 :geo:50.8107627,8.776724899999976
END:VEVENT
BEGIN:VTIMEZONE
TZID:Europe/Berlin
X-LIC-LOCATION:Europe/Berlin
BEGIN:DAYLIGHT
DTSTART:20190331T030000
TZOFFSETFROM:+0100
TZOFFSETTO:+0200
TZNAME:CEST
END:DAYLIGHT
END:VTIMEZONE
END:VCALENDAR