BEGIN:VCALENDAR
VERSION:2.0
PRODID:-//wp-events-plugin.com//7.2.3.1//EN
TZID:Europe/Berlin
X-WR-TIMEZONE:Europe/Berlin
BEGIN:VEVENT
UID:268@mls-marburg.de
DTSTART;TZID=Europe/Berlin:20240119T080000
DTEND;TZID=Europe/Berlin:20240119T120000
DTSTAMP:20240118T113558Z
URL:https://www.mls-marburg.de/events/berufsberatung-bei-frau-seim/
SUMMARY:Berufsberatung bei Frau Seim
DESCRIPTION:
LOCATION:Büro der Sozialarbeiterin an der MLS\, Savignystraße 2\, Marburg
 \, 35037\, Deutschland
X-APPLE-STRUCTURED-LOCATION;VALUE=URI;X-ADDRESS=Savignystraße 2\, Marburg\
 , 35037\, Deutschland;X-APPLE-RADIUS=100;X-TITLE=Büro der Sozialarbeiteri
 n an der MLS:geo:0,0
END:VEVENT
BEGIN:VTIMEZONE
TZID:Europe/Berlin
X-LIC-LOCATION:Europe/Berlin
BEGIN:STANDARD
DTSTART:20231029T020000
TZOFFSETFROM:+0200
TZOFFSETTO:+0100
TZNAME:CET
END:STANDARD
END:VTIMEZONE
END:VCALENDAR