BEGIN:VCALENDAR
VERSION:2.0
PRODID:-//wp-events-plugin.com//7.2.3.1//EN
TZID:Europe/Berlin
X-WR-TIMEZONE:Europe/Berlin
BEGIN:VEVENT
UID:260@mls-marburg.de
DTSTART;TZID=Europe/Berlin:20230919T190000
DTEND;TZID=Europe/Berlin:20230919T220000
DTSTAMP:20230907T175836Z
URL:https://www.mls-marburg.de/events/ausstellung-licht-im-schatten-antikr
 iegskunst-aus-russland/
SUMMARY:Vernissage zur Ausstellung „Licht im Schatten – Antikriegskunst
  aus Russland“
DESCRIPTION:Vernissage am 19.09.2023\, 19 Uhr in der Aula der MLS mit Vortr
 ag der Künstlerin\n\nMehr Informationen finden sie Hier: Ausstellung „L
 icht im Schatten“\n\n&nbsp\;
CATEGORIES:Konzert/Theater/Lesung/Vortrag
LOCATION:Aula der MLS\, Savignystraße 2\, Marburg\, Hessen\, 35037\, Deuts
 chland
GEO:50.8107627;8.776724899999977
X-APPLE-STRUCTURED-LOCATION;VALUE=URI;X-ADDRESS=Savignystraße 2\, Marburg\
 , Hessen\, 35037\, Deutschland;X-APPLE-RADIUS=100;X-TITLE=Aula der MLS:geo
 :50.8107627,8.776724899999977
END:VEVENT
BEGIN:VTIMEZONE
TZID:Europe/Berlin
X-LIC-LOCATION:Europe/Berlin
BEGIN:DAYLIGHT
DTSTART:20230326T030000
TZOFFSETFROM:+0100
TZOFFSETTO:+0200
TZNAME:CEST
END:DAYLIGHT
END:VTIMEZONE
END:VCALENDAR